{"text_format":"1","workbook":"xlsx","n_sheets":6,"sheets":["かがみ","種目内訳","内訳（建築主体）","内訳（電気設備）","内訳（給水設備）","内訳（物体付帯）"],"not_rendered":{"charts":0,"images":0,"macros":0,"external_links":3,"defined_names":188,"comments":0,"pivot_tables":0},"unopened":[],"bounds":{"document_bytes":16777216,"sheet_cells":100000,"rows_first":2000,"rows_last":500,"rows_between":2000,"halvings":0,"cell_chars":16384,"cell_head_chars":4096},"cells_cut":0,"cells_raw":0,"read":"whole","date_system":"1900"}

{"sheet":"かがみ","index":0,"n_rows":28,"n_cols":10,"rows_kept":28,"cut":false,"hidden":false,"merged":[[13,2,14,9],[6,1,7,10],[20,5,21,6],[20,4,21,4],[20,7,21,7],[18,4,19,4],[18,5,19,6],[18,7,19,7],[8,2,9,9]]}
[]
[]
[]
[]
[]
[]
[]
[]
[null,null,"(仮称)山下幸光農場ブロイラー鶏舎 新築工事"]
[]
[]
[]
[]
[null,null,"【 内訳書明細書 】","設　計　内　訳　書","設　計　内　訳　書","設　計　内　訳　書","設　計　内　訳　書","設　計　内　訳　書","設　計　内　訳　書","設　計　内　訳　書"]
[null,null,"設　計　内　訳　書","設　計　内　訳　書","設　計　内　訳　書","設　計　内　訳　書","設　計　内　訳　書","設　計　内　訳　書","設　計　内　訳　書","設　計　内　訳　書"]
[]
[]
[]
[null,null,null,null,"税込価格",{"$f":"種目内訳!I40","v":0},null,"円也"]
[]
[null,null,null,null,"(工事原価",{"$f":"種目内訳!I34","v":0},null,"円也）"]
[]
[]
[]
[]
[]
[null,null,null,null,null,"工事概要","： 鶏舎1棟（鉄骨造平屋）"]
[null,null,null,null,null,null,"　　　延床面積：1,120.00 m2"]

{"sheet":"種目内訳","index":1,"n_rows":40,"n_cols":10,"rows_kept":40,"cut":false,"hidden":false,"merged":[[0,1,1,9],[2,2,3,2],[2,3,3,4],[2,5,3,6],[2,7,3,8],[18,12,19,12],[4,8,5,8],[4,9,5,9],[4,2,5,2],[4,3,5,5],[4,6,5,6],[4,7,5,7]]}
[null,"【 工　事　費　内　訳　書 】"]
[]
[null,null,null,"（工事価格",null,{"$f":"I34","v":0},null,"円也）"]
[]
[null," ","名　　　　　　　　称","摘　　　　　　　　要",null,null,"数　量","単位","金　　　額","備　　　　考"]
[]
[]
[null,"Ⅰ"," 直接工事費"]
[]
[null,null,"Ａ. 建築主体工事",null,null,null,1,"式",{"$f":"'内訳（建築主体）'!H38","v":0}]
[]
[null,null,"Ｂ. 電気設備工事",null,null,null,1,"式",{"$f":"'内訳（電気設備）'!$H$38","v":0}]
[]
[null,null,"Ｃ. 給水設備工事",null,null,null,1,"式",{"$f":"'内訳（給水設備）'!$H$38","v":0}]
[]
[null,null,"Ｄ. 物体付帯工事",null,null,null,1,"式",{"$f":"'内訳（物体付帯）'!$H$38","v":0}]
[]
[null,null,"　　　Ⅰ　　計",null,null,null,null,null,{"$f":"SUM(I9:I16)","v":0}]
[]
[null,"Ⅱ"," 共 通 費"]
[]
[null,null,"　共通仮設費",null,null,null,1,"式"]
[]
[null,null,"　現場管理費",null,null,null,1,"式"]
[]
[null,null,"　一般管理費",null,null,null,1,"式"]
[]
[null,null,"　　　Ⅱ　　計",null,null,null,null,null,{"$f":"I22+I24+I26","v":0}]
[]
[]
[]
[null,null,"　　　合　　計","Ⅰ＋Ⅱ",null,null,null,null,{"$f":"I18+I28","v":0}]
[]
[null,null," 　 （ 改 め 計 ）",null,null,null,null,null,{"$f":"ROUNDDOWN(I32*1,-3)","v":0},"千円未満切捨"]
[]
[null,null,"　消費税相当額","10.0％",null,null,1,"式",{"$f":"INT(I34*10%)","v":0}]
[]
[]
[]
[null,null,"　　　総　合　計",null,null,null,null,null,{"$f":"I34+I36","v":0}]

{"sheet":"内訳（建築主体）","index":2,"n_rows":458,"n_cols":13,"rows_kept":458,"cut":false,"hidden":false,"merged":[[0,7,1,7],[0,8,1,10],[0,1,1,1],[0,2,1,2],[0,3,1,3],[0,4,1,4],[0,5,1,5],[0,6,1,6]]}
[null,"記号","名　　　　　　　　称","摘　　　　　　　要","数　量","単位","単　価","金　　額","備　　　　　考"]
[]
["▼"]
[{"$f":"INT(ROW()/38)+1","v":1},null,{"$f":"種目内訳!$C$10","v":"Ａ. 建築主体工事"}]
[]
[]
[]
[null,null," 1．直接仮設工事",null,1,"式",null,{"$f":"$H$76","v":0}]
[]
[null,null," 2．土工事",null,1,"式",null,{"$f":"$H$114","v":0}]
[]
[null,null," 3．鉄筋工事",null,1,"式",null,{"$f":"$H$152","v":0}]
[]
[null,null," 4．コンクリート工事",null,1,"式",null,{"$f":"$H$190","v":0}]
[]
[null,null," 5．型枠工事",null,1,"式",null,{"$f":"$H$228","v":0}]
[]
[null,null," 6．鉄骨工事",null,1,"式",null,{"$f":"H304","v":0}]
[]
[null,null," 7．木工事",null,1,"式",null,{"$f":"H342","v":0}]
[]
[null,null," 8．屋根、外壁工事",null,1,"式",null,{"$f":"H380","v":0}]
[]
[null,null," 9．左官工事",null,1,"式",null,{"$f":"H418","v":0}]
[]
[null,null,"10．建具工事",null,1,"式",null,{"$f":"H456","v":0}]
[]
[]
[]
[]
[]
[]
[]
[]
[]
[]
[]
[null,null,"　　　　計",null,null,null,null,{"$f":"SUM(H7:H35)","v":0}]
[]
["▲"]
["▼"]
[{"$f":"INT(ROW()/38)+1","v":2},"1 ","直接仮設工事"]
[]
[null,null,"遣方","建築面積",1120,"㎡",null,{"$f":"IF(E44=\"\",\"\",INT(E44*G44))","v":0}]
[]
[null,null,"墨出し","延床面積",1120,"㎡",null,{"$f":"IF(E46=\"\",\"\",INT(E46*G46))","v":0}]
[]
[null,null,"養生","延床面積",1120,"㎡",null,{"$f":"IF(E48=\"\",\"\",INT(E48*G48))","v":0}]
[]
[null,null,"整理清掃後片付け","延床面積",1120,"㎡",null,{"$f":"IF(E50=\"\",\"\",INT(E50*G50))","v":0}]
[null,null,null,"期間：2箇月"]
[null,null,"外部足場","くさび緊結式足場　建地幅 600　",150,"㎡",null,{"$f":"IF(E52=\"\",\"\",INT(E52*G52))","v":0}]
[null,null,null,"期間：1箇月"]
[null,null,"災害防止","水平安全ﾈｯﾄ張り　",1120,"㎡",null,{"$f":"IF(E54=\"\",\"\",INT(E54*G54))","v":0}]
[]
[null,null,"桁行脚立足場",null,160,"ｍ",null,{"$f":"IF(E56=\"\",\"\",INT(E56*G56))","v":0}]
[]
[null,null,"仮設材運搬費",null,6,"回",null,{"$f":"IF(E58=\"\",\"\",INT(E58*G58))","v":0}]
[]
[]
[]
[]
[]
[]
[]
[]
[]
[]
[]
[]
[]
[]
[]
[]
[]
[null,null,"　　　小　計",null,null,null,null,{"$f":"SUM(H43:H74)","v":0}]
[]
["▲"]
["▼"]
[{"$f":"INT(ROW()/38)+1","v":3},"2 ","土工事"]
[]
[null,null,"根切り","機械　GL-600",225.6,"㎥",null,{"$f":"IF(E82=\"\",\"\",INT(E82*G82))","v":0}]
[]
[null,null,"鋤取り","機械　GL-20",1120,"㎡",null,{"$f":"IF(E84=\"\",\"\",INT(E84*G84))","v":0}]
[]
[null,null,"埋戻し","機械　根切り良土",134,"㎥",null,{"$f":"IF(E86=\"\",\"\",INT(E86*G86))","v":0}]
[]
[null,null,"残土処分","場内仮置き",123,"㎥",null,{"$f":"IF(E88=\"\",\"\",INT(E88*G88))","v":0}]
[]
[null,null,"床付け","基礎下",225.6,"㎡",null,{"$f":"IF(E90=\"\",\"\",INT(E90*G90))","v":0}]
[]
[null,null,"機械運搬費","片道30㎞以内　ﾊﾞｯｸﾎｳ（1往復）",1,"式",null,{"$f":"IF(E92=\"\",\"\",INT(E92*G92))","v":0}]
[]
[null,null,"砕石地業","基礎下（再生ｸﾗｯｼｬｰ）",40,"㎥",null,{"$f":"IF(E94=\"\",\"\",INT(E94*G94))","v":0}]
[]
[null,null,"砕石地業","土間下（再生ｸﾗｯｼｬｰ）",94,"㎥",null,{"$f":"IF(E96=\"\",\"\",INT(E96*G96))","v":0}]
[]
[null,null,"ポリエチレンフィルム敷き","t=0.10",1120,"㎡",null,{"$f":"IF(E98=\"\",\"\",INT(E98*G98))","v":0}]
[]
[null,null,"犬走整地","機械　GL-100",268,"㎡",null,{"$f":"IF(E100=\"\",\"\",INT(E100*G100))","v":0}]
[]
[null,null,"犬走砕石地業","土間下（再生ｸﾗｯｼｬｰ）",21,"㎥",null,{"$f":"IF(E102=\"\",\"\",INT(E102*G102))","v":0}]
[null,null,null,null,""]
[null,null,"発電機置場基礎",null,1,"式"]
[]
[null,null,"集水桝","600×600　グレーチング蓋共",2,"箇所",null,{"$f":"IF(E106=\"\",\"\",INT(E106*G106))","v":0}]
[]
[null,null,"排水管","ＶＰ250",16,"ｍ",null,{"$f":"IF(E108=\"\",\"\",INT(E108*G108))","v":0}]
[]
[]
[]
[]
[]
[null,null,"　　　小　計",null,null,null,null,{"$f":"SUM(H81:H113)","v":0}]
[]
["▲"]
["▼"]
[{"$f":"INT(ROW()/38)+1","v":4},"3 ","鉄筋工事"]
[]
[null,null,"異形鉄筋","SD295A　Ｄ10",10.25,"ｔ",null,{"$f":"IF(E120=\"\",\"\",INT(E120*G120))","v":0}]
[]
[null,null,"異形鉄筋","SD295A　Ｄ16",1.4,"ｔ",null,{"$f":"IF(E122=\"\",\"\",INT(E122*G122))","v":0}]
[]
[]
[]
[null,null,"鉄筋スクラップ控除","ﾍﾋﾞｰＨ2",-0.2,"ｔ",null,{"$f":"IF(E126=\"\",\"\",INT(E126*G126))","v":0}]
[]
[null,null,"鉄筋加工組立","ｽﾍﾟｰｻｰ共",11.65,"ｔ",null,{"$f":"IF(E128=\"\",\"\",INT(E128*G128))","v":0}]
[]
[null,null,"鉄筋運搬","4ｔ車",11.65,"ｔ",null,{"$f":"IF(E130=\"\",\"\",INT(E130*G130))","v":0}]
[]
[]
[]
[]
[]
[]
[]
[]
[]
[]
[]
[]
[]
[]
[]
[]
[]
[]
[]
[]
[]
[null,null,"　　　小　計",null,null,null,null,{"$f":"SUM(H120:H150)","v":0}]
[]
["▲"]
["▼"]
[{"$f":"INT(ROW()/38)+1","v":5},"4 ","コンクリート工事"]
[]
[null,null,"捨てコンクリート","Fｃ=18N/㎜2　S-15",13.5,"m3",null,{"$f":"IF(E158=\"\",\"\",INT(E158*G158))","v":0}]
[]
[null,null,"土間コンクリート","Fc=21N/㎜2　S-15",118,"m3",null,{"$f":"IF(E160=\"\",\"\",INT(E160*G160))","v":0}]
[]
[null,null,"基礎コンクリート","Fc=21+3N/㎜2　S-15",74,"m3",null,{"$f":"IF(E162=\"\",\"\",INT(E162*G162))","v":0}]
[]
[null,null,"コンクリート打設手間","捨て　ポンプ打ち",13.5,"m3",null,{"$f":"IF(E164=\"\",\"\",INT(E164*G164))","v":0}]
[]
[null,null,"コンクリート打設手間","土間　ポンプ打ち",118,"m3",null,{"$f":"IF(E166=\"\",\"\",INT(E166*G166))","v":0}]
[]
[null,null,"コンクリート打設手間","基礎　ポンプ打ち",74,"m3",null,{"$f":"IF(E168=\"\",\"\",INT(E168*G168))","v":0}]
[null,null,null,"捨て　　圧送料共"]
[null,null,"ポンプ基本料金","<１回の打設量が30m3未満>",1,"回",null,{"$f":"IF(E170=\"\",\"\",INT(E170*G170))","v":0}]
[]
[null,null,"ポンプ圧送料金","土間､基礎",192,"ｍ3",null,{"$f":"IF(E172=\"\",\"\",INT(E172*G172))","v":0}]
[null,null,null,"土間､基礎"]
[null,null,"ポンプ基本料金","<１回の打設量が50m3以上100m3未満>",3,"回",null,{"$f":"IF(E174=\"\",\"\",INT(E174*G174))","v":0}]
[]
[]
[]
[]
[]
[]
[]
[]
[]
[]
[]
[]
[]
[]
[]
[null,null,"　　　小　計",null,null,null,null,{"$f":"SUM(H157:H189)","v":0}]
[]
["▲"]
["▼"]
[{"$f":"INT(ROW()/38)+1","v":6},"5 ","型枠工事"]
[]
[null,null,"普通合板型枠","土間部",16.100000000000001,"㎡",null,{"$f":"IF(E196=\"\",\"\",INT(E196*G196))","v":0}]
[]
[null,null,"普通合板型枠","基礎部",97,"㎡",null,{"$f":"IF(E198=\"\",\"\",INT(E198*G198))","v":0}]
[]
[null,null,"打放し合板型枠","腰壁部",258.3,"㎡",null,{"$f":"IF(E200=\"\",\"\",INT(E200*G200))","v":0}]
[]
[null,null,"型枠運搬費","4ｔ車",376.1,"㎡",null,{"$f":"IF(E202=\"\",\"\",INT(E202*G202))","v":0}]
[]
[null,null,"排水パイプ設置","ＶＰ100　半円カット",22,"ヶ所",null,{"$f":"IF(E204=\"\",\"\",INT(E204*G204))","v":0}]
[]
[null,null,"天端面木",null,397,"ｍ",null,{"$f":"IF(E206=\"\",\"\",INT(E206*G206))","v":0}]
[]
[null,null,"アンカーセット",null,100,"本",null,{"$f":"IF(E208=\"\",\"\",INT(E208*G208))","v":0}]
[]
[]
[]
[]
[]
[]
[]
[]
[]
[]
[]
[]
[]
[]
[]
[]
[]
[]
[]
[null,null,"　　　小　計",null,null,null,null,{"$f":"SUM(H195:H227)","v":0}]
[]
["▲"]
["▼"]
[{"$f":"INT(ROW()/38)+1","v":7},"6 ","鉄骨工事"]
[]
[null,null,"（鋼材費）"]
[null,null,null,"SS400"]
[null,null,"Ｈ形鋼（細幅）"," Ｈ-248ｘ124ｘ5ｘ8",12725,"kg",null,{"$f":"IF(E236=\"\",\"\",INT(E236*G236))","v":0}]
[null,null,null,"SS400"]
[null,null,"Ｈ形鋼（細幅）"," Ｈ-150ｘ75ｘ5ｘ7",6480,"kg",null,{"$f":"IF(E238=\"\",\"\",INT(E238*G238))","v":0}]
[null,null,null,"SS400"]
[null,null,"Ｈ形鋼（広幅）"," Ｈ-100ｘ100ｘ6ｘ8",572,"kg",null,{"$f":"IF(E240=\"\",\"\",INT(E240*G240))","v":0}]
[null,null,null,"SS400"]
[null,null,"ＣＴ形鋼","100ｘ100ｘ5.5×8",10,"kg",null,{"$f":"IF(E242=\"\",\"\",INT(E242*G242))","v":0}]
[null,null,null,"STKR400"]
[null,null,"一般構造用角形鋼管"," □-100ｘ100ｘ3.2",933,"kg",null,{"$f":"IF(E244=\"\",\"\",INT(E244*G244))","v":0}]
[null,null,null,"STKR400"]
[null,null,"一般構造用角形鋼管"," □-100ｘ100ｘ2.3",392,"kg",null,{"$f":"IF(E246=\"\",\"\",INT(E246*G246))","v":0}]
[null,null,null,"SS400"]
[null,null,"等辺山形鋼"," Ｌ-75ｘ75ｘ6",958,"kg",null,{"$f":"IF(E248=\"\",\"\",INT(E248*G248))","v":0}]
[null,null,null,"SS400"]
[null,null,"等辺山形鋼"," Ｌ-40ｘ40ｘ5",112,"kg",null,{"$f":"IF(E250=\"\",\"\",INT(E250*G250))","v":0}]
[null,null,null,"SS400"]
[null,null,"鋼板","ＦＢ-9×25",222,"kg",null,{"$f":"IF(E252=\"\",\"\",INT(E252*G252))","v":0}]
[null,null,null,"SS400"]
[null,null,"切板鋼板"," ＰＬ-6",1233,"kg",null,{"$f":"IF(E254=\"\",\"\",INT(E254*G254))","v":0}]
[null,null,null,"SS400"]
[null,null,"切板鋼板"," ＰＬ-9",153,"kg",null,{"$f":"IF(E256=\"\",\"\",INT(E256*G256))","v":0}]
[null,null,null,"SS400"]
[null,null,"切板鋼板"," ＰＬ-12",1007,"kg",null,{"$f":"IF(E258=\"\",\"\",INT(E258*G258))","v":0}]
[null,null,null,"SS400"]
[null,null,"切板鋼板"," ＰＬ-16",480,"kg",null,{"$f":"IF(E260=\"\",\"\",INT(E260*G260))","v":0}]
[null,null,null,"SS400"]
[null,null,"切板鋼板"," ＰＬ-19",373,"kg",null,{"$f":"IF(E262=\"\",\"\",INT(E262*G262))","v":0}]
[]
[null,null,"鉄骨スクラップ控除","ﾍﾋﾞｰＨ2",-804,"kg",null,{"$f":"IF(E264=\"\",\"\",INT(E264*G264))","v":0}]
[null,null,null,"F10T"]
[null,null,"摩擦接合用高力ボルト"," Ｈ.Ｔ.Ｂ-Ｍ16ｘ45",101,"kg",null,{"$f":"IF(E266=\"\",\"\",INT(E266*G266))","v":0}]
[null,null,null,"Ｓ10T"]
["▲",null,"摩擦接合用高力ボルト"," 特Ｈ.Ｔ.Ｂ-Ｍ16ｘ40",123,"kg",null,{"$f":"IF(E268=\"\",\"\",INT(E268*G268))","v":0}]
["▼",null,null,"Ｓ10T"]
[{"$f":"INT(ROW()/38)+1","v":8},null,"摩擦接合用高力ボルト"," 特Ｈ.Ｔ.Ｂ-Ｍ16ｘ45",531,"kg",null,{"$f":"IF(E270=\"\",\"\",INT(E270*G270))","v":0}]
[null,null,null,"ABR400"]
[null,null,"アンカーボルト"," Ａ.Ｂ-Ｍ16　Ｌ=480",117,"kg",null,{"$f":"IF(E272=\"\",\"\",INT(E272*G272))","v":0}]
[]
[null,null,"小屋・壁ブレース","Ｍ12　羽子板、T.B共",1014,"kg",null,{"$f":"IF(E274=\"\",\"\",INT(E274*G274))","v":0}]
[]
[null,null,null,null,null,null,null,null,null,null,null,null,{"$f":"SUM(H235:H275)","v":0}]
[]
[null,null,"〔施工費〕",null,null,null,null,{"$f":"IF(E278=\"\",\"\",INT(E278*G278))","v":""}]
[]
[null,null,"工場加工組立費","溶接共",23.32,"ｔ",null,{"$f":"IF(E280=\"\",\"\",INT(E280*G280))","v":0}]
[]
[null,null,"工場塗装費","一般錆止　JIS K5621  2回塗り",23.32,"ｔ",null,{"$f":"IF(E282=\"\",\"\",INT(E282*G282))","v":0}]
[]
[null,null,"副資材消耗品費",null,23.32,"ｔ",null,{"$f":"IF(E284=\"\",\"\",INT(E284*G284))","v":0}]
[]
[null,null,"現場工事費","ボルト類締付",24.96,"ｔ",null,{"$f":"IF(E286=\"\",\"\",INT(E286*G286))","v":0}]
[]
[null,null,"現場建方費",null,24.96,"ｔ",null,{"$f":"IF(E288=\"\",\"\",INT(E288*G288))","v":0}]
[]
[null,null,"鉄骨運搬費",null,24.96,"ｔ",null,{"$f":"IF(E290=\"\",\"\",INT(E290*G290))","v":0}]
[]
[null,null,"建方重機損料","荷揚げ、建込み",24.96,"ｔ",null,{"$f":"IF(E292=\"\",\"\",INT(E292*G292))","v":0}]
[]
[null,null,"アンカーボルト据付費","主柱用　径16㎜",1,"式"]
[]
[]
[]
[null,null,"社内検査費",null,23.32,"ｔ",null,{"$f":"IF(E298=\"\",\"\",INT(E298*G298))","v":0}]
[]
[null,null,"工作図費",null,24.96,"ｔ",null,{"$f":"IF(E300=\"\",\"\",INT(E300*G300))","v":0}]
[]
[]
[]
[null,null,"　　　小　計",null,null,null,null,{"$f":"SUM(H235:H302)","v":0}]
[]
["▲"]
["▼"]
[{"$f":"INT(ROW()/38)+1","v":9},"7 ","木工事",null,null,null,null,{"$f":"IF(E308=\"\",\"\",INT(E308*G308))","v":""}]
[]
[null,null,"（木材費）",null,null,null,null,{"$f":"IF(E310=\"\",\"\",INT(E310*G310))","v":""}]
[]
[null,null,"構造材","杉（ＫＤ）　正角材",22,"m3",null,{"$f":"IF(E312=\"\",\"\",INT(E312*G312))","v":0}]
[]
[null,null,"構造材","杉（ＫＤ）　正割材",2.2999999999999998,"m3",null,{"$f":"IF(E314=\"\",\"\",INT(E314*G314))","v":0}]
[]
[null,null,"構造材","杉（ＫＤ）　正割材",0.2,"m3",null,{"$f":"IF(E316=\"\",\"\",INT(E316*G316))","v":0}]
[]
[null,null,"構造材","杉（ＫＤ）　正角材-注入材",0.4,"m3",null,{"$f":"IF(E318=\"\",\"\",INT(E318*G318))","v":0}]
[]
[null,null,"運搬費",null,1,"式",null,{"$f":"IF(E320=\"\",\"\",INT(E320*G320))","v":0}]
[]
[null,null,"工場加工費",null,1,"式"]
[]
[null,null,"（施工費）",null,null,null,null,{"$f":"IF(E324=\"\",\"\",INT(E324*G324))","v":""}]
[]
[null,null,"木材加工組立","大工、手元",1,"式"]
[]
[null,null,"釘・金物類",null,1,"式"]
[]
[null,null,"揚重機損料","ｸﾚｰﾝ損料",1,"式"]
[]
[]
[]
[]
[]
[]
[]
[]
[]
[]
[]
[null,null,"　　　小　計",null,null,null,null,{"$f":"SUM(H312:H339)","v":0}]
[]
["▲",null,null,null,null,null,null,{"$f":"IF(E344=\"\",\"\",INT(E344*G344))","v":""}]
["▼"]
[{"$f":"INT(ROW()/38)+1","v":10},"8 ","屋根、外壁工事"]
[]
[null,null,"（屋根）"]
[null,null,null,"片面ｶﾞﾙﾊﾞﾘｳﾑ鋼板t=0.27 小波"]
[null,null,"ガルダンフィットＧ1葺き","（硬質ｳﾚﾀﾝﾌｫｰﾑt=30)",1291.4000000000001,"㎡",null,{"$f":"IF(E350=\"\",\"\",INT(E350*G350))","v":0}]
[]
[null,null,"捨て棟板","ｶﾞﾙﾊﾞﾘｳﾑ鋼板t=0.4",80,"ｍ",null,{"$f":"IF(E352=\"\",\"\",INT(E352*G352))","v":0}]
[]
[null,null,"棟包み","ｶﾞﾙﾊﾞﾘｳﾑ鋼板t=0.4",80,"ｍ",null,{"$f":"IF(E354=\"\",\"\",INT(E354*G354))","v":0}]
[]
[null,null,"庇水切り","ｶﾞﾙﾊﾞﾘｳﾑ鋼板t=0.4",5.5,"ｍ",null,{"$f":"IF(E356=\"\",\"\",INT(E356*G356))","v":0}]
[]
[null,null,"ケラバ包み","ｶﾞﾙﾊﾞﾘｳﾑ鋼板t=0.4",36,"ｍ",null,{"$f":"IF(E358=\"\",\"\",INT(E358*G358))","v":0}]
[]
[null,null,"（外壁）"]
[null,null,null,"塗装品"]
[null,null,"防火サイディング張り","ｔ=14㎜×3030×910",134,"枚",null,{"$f":"IF(E362=\"\",\"\",INT(E362*G362))","v":0}]
[]
[null,null,"同質出隅","Ｌ=3030",4,"本",null,{"$f":"IF(E364=\"\",\"\",INT(E364*G364))","v":0}]
[]
[null,null,"化粧釘",null,135,"袋",null,{"$f":"IF(E366=\"\",\"\",INT(E366*G366))","v":0}]
[]
[null,null,"土台水切り","巾25",69,"本",null,{"$f":"IF(E368=\"\",\"\",INT(E368*G368))","v":0}]
[]
[null,null,"運搬費",null,1,"式",null,{"$f":"IF(E370=\"\",\"\",INT(E370*G370))","v":0}]
[]
[null,null,"外壁取合シーリング","MS-2　10*10",400,"ｍ",null,{"$f":"IF(E372=\"\",\"\",INT(E372*G372))","v":0}]
[]
[]
[]
[]
[]
[]
[]
[null,null,"　　　小　計",null,null,null,null,{"$f":"SUM(H350:H378)","v":0}]
[]
["▲"]
["▼"]
[{"$f":"INT(ROW()/38)+1","v":11},"9 ","左官工事"]
[]
[null,null,"（鶏舎）"]
[]
[null,null,"床 コンクリート打同時金鏝押え","鶏舎",1120,"㎡",null,{"$f":"IF(E388=\"\",\"\",INT(E388*G388))","v":0}]
[]
[null,null,"天端 モルタル金鏝押え","t=30ｘW=300",156.4,"ｍ",null,{"$f":"IF(E390=\"\",\"\",INT(E390*G390))","v":0}]
[]
[null,null,"天端 モルタル金鏝押え","t=30ｘW=200",24.5,"ｍ",null,{"$f":"IF(E392=\"\",\"\",INT(E392*G392))","v":0}]
[]
[null,null,"腰壁 コンクリート面打放し補修","素地",85,"㎡",null,{"$f":"IF(E394=\"\",\"\",INT(E394*G394))","v":0}]
[]
[null,null,"床 コンクリート打同時金鏝押え","犬走り",268,"㎡",null,{"$f":"IF(E396=\"\",\"\",INT(E396*G396))","v":0}]
[]
[null,null,"コンクリートブロック積","ｔ=100　1段積",410,"枚",null,{"$f":"IF(E398=\"\",\"\",INT(E398*G398))","v":0}]
[]
[null,null,"上記基礎",null,164,"ｍ",null,{"$f":"IF(E400=\"\",\"\",INT(E400*G400))","v":0}]
[]
[null,null,"消火器","ABC10型",6,"ヶ所",null,{"$f":"IF(E402=\"\",\"\",INT(E402*G402))","v":0}]
[]
[null,null,"積雪及び風荷重軽減に関する掲示板","300×300×ｔ3",1]
[]
[null,null,"土間カッター目地切",null,231.4,"ｍ",null,{"$f":"IF(E406=\"\",\"\",INT(E406*G406))","v":0}]
[]
[]
[]
[]
[]
[]
[]
[]
[]
[]
[]
[null,null,"　　　小　計",null,null,null,null,{"$f":"SUM(H385:H417)","v":0}]
[]
["▲"]
["▼"]
[{"$f":"INT(ROW()/38)+1","v":12},"10 ","建具工事"]
[]
[null,null," 〔シャッター〕"]
[null,null,null,"ｼｬｯﾀｰBox、ｽﾃﾝﾚｽ枠"]
[null,null,"SS-1　軽量バランスシャッター　","W=3,500ｘH=3,000",1,"ヶ所",null,{"$f":"IF(E426=\"\",\"\",INT(E426*G426))","v":0}]
[]
[null,null,"運搬・取付費",null,1,"式",null,{"$f":"IF(E428=\"\",\"\",INT(E428*G428))","v":0}]
[]
[null,null," 〔アルミニウム製建具〕"]
[null,null,null,"アルポリt=3.0・ｱﾙﾐﾊﾟﾈﾙt=3.0"]
[null,null,"AD-1　片開きパネル戸　","W=805ｘH=1,820　抜き打ちガラリ付き",3,"ヶ所",null,{"$f":"IF(E432=\"\",\"\",INT(E432*G432))","v":0}]
[]
[null,null,"運搬・取付費",null,1,"式",null,{"$f":"IF(E434=\"\",\"\",INT(E434*G434))","v":0}]
[]
[]
[null,null,null,"＃16×20㎜目"]
[null,null,"ビニール亀甲金網","800×20ｍ",12,"巻",null,{"$f":"IF(E438=\"\",\"\",INT(E438*G438))","v":0}]
[null,null,null,"＃16×20㎜目"]
[null,null,"ビニール亀甲金網","1,000×18ｍ",1,"巻",null,{"$f":"IF(E440=\"\",\"\",INT(E440*G440))","v":0}]
[]
[null,null,"運搬費",null,1,"式",null,{"$f":"IF(E442=\"\",\"\",INT(E442*G442))","v":0}]
[]
[null,null,"下地材",null,1,"式",null,{"$f":"IF(E444=\"\",\"\",INT(E444*G444))","v":0}]
[]
[null,null,"取付費",null,1,"式",null,{"$f":"IF(E446=\"\",\"\",INT(E446*G446))","v":0}]
[]
[]
[]
[null,null,"発電機置場上屋",null,1,"式"]
[]
[]
[]
[]
[]
[null,null,"　　　小　計",null,null,null,null,{"$f":"SUM(H425:H454)","v":0}]
[]
["▲"]

{"sheet":"内訳（電気設備）","index":3,"n_rows":496,"n_cols":9,"rows_kept":496,"cut":false,"hidden":false,"merged":[[0,7,1,7],[0,8,1,10],[0,1,1,1],[0,2,1,2],[0,3,1,3],[0,4,1,4],[0,5,1,5],[0,6,1,6]]}
[null,"記号","名　　　　　　　　称","摘　　　　　　　要","数　量","単位","単　価","金　　額","備　　　　　考"]
[]
["▼"]
[{"$f":"INT(ROW()/38)+1","v":1},null,{"$f":"種目内訳!$C$12","v":"Ｂ. 電気設備工事"}]
[]
[]
[]
[null,null,"1.　電灯設備工事",null,1,"式",null,{"$f":"SUM(H78)","v":0}]
[]
[null,null,"2.　動力設備配線　　",null,1,"式",null,{"$f":"SUM(H116)","v":0}]
[]
[null,null,"3.　空調設備配線",null,1,"式",null,{"$f":"SUM(H154)","v":0}]
[]
[null,null,"4.　分電盤・制御盤",null,1,"式",null,{"$f":"SUM(H230+H306+H344+H382+H418)","v":0}]
[]
[null,null,"5.　低圧受電設備及び幹線工事",null,1,"式",null,{"$f":"SUM(H462)","v":0}]
[]
[null,null,"6.　仮設電気工事",null,1,"式",null,{"$f":"SUM(H496)","v":0}]
[]
[]
[]
[]
[]
[]
[]
[]
[]
[]
[]
[]
[]
[]
[]
[]
[]
[]
[]
[null,null,"　　　　計",null,null,null,null,{"$f":"SUM(H7:H36)","v":0}]
[]
["▲"]
["▼"]
[{"$f":"INT(ROW()/38)+1","v":2},"1 ","電灯設備工事"]
[]
[null,null,"スズラン電灯","12灯　7.6ｍピッチ",3,"本",null,{"$f":"IF(E44=\"\",\"\",INT(E44*G44))","v":0}]
[]
[null,null,"LED電球","調光対応",36,"個",null,{"$f":"IF(E46=\"\",\"\",INT(E46*G46))","v":0}]
[]
[null,null,"調光スイッチ","LED用300W・ボックス付き",1,"セット",null,{"$f":"IF(E48=\"\",\"\",INT(E48*G48))","v":0}]
[]
[null,null,"外灯","LED7W・AS付",1,"台",null,{"$f":"IF(E50=\"\",\"\",INT(E50*G50))","v":0}]
[]
[null,null,"ケーブル","VVF1.6-2C",15,"ｍ",null,{"$f":"IF(E52=\"\",\"\",INT(E52*G52))","v":0}]
[]
[null,null,"ケーブル","VVF2.0-2C",30,"ｍ",null,{"$f":"IF(E54=\"\",\"\",INT(E54*G54))","v":0}]
[]
[null,null,"ケーブル","VVF2.0-3C",100,"ｍ",null,{"$f":"IF(E56=\"\",\"\",INT(E56*G56))","v":0}]
[]
[null,null,"防水コンセント・防水タンプラスイッチ",null,3,"個",null,{"$f":"IF(E58=\"\",\"\",INT(E58*G58))","v":0}]
[]
[null,null,"支線ワイヤー","8ｓｑ",300,"ｍ",null,{"$f":"IF(E60=\"\",\"\",INT(E60*G60))","v":0}]
[]
[null,null,"同上付属品",null,1,"式",null,{"$f":"IF(E62=\"\",\"\",INT(E62*G62))","v":0}]
[]
[null,null,"同上金物類",null,1,"式",null,{"$f":"IF(E64=\"\",\"\",INT(E64*G64))","v":0}]
[]
[null,null,"電線管類",null,1,"式",null,{"$f":"IF(E66=\"\",\"\",INT(E66*G66))","v":0}]
[]
[null,null,"電線管類付属品",null,1,"式",null,{"$f":"IF(E68=\"\",\"\",INT(E68*G68))","v":0}]
[]
[null,null,"消耗品・雑材費",null,1,"式",null,{"$f":"IF(E70=\"\",\"\",INT(E70*G70))","v":0}]
[]
[null,null,"労務費",null,1,"式",null,{"$f":"IF(E72=\"\",\"\",INT(E72*G72))","v":0}]
[]
[null,null,"諸経費",null,1,"式",null,{"$f":"IF(E74=\"\",\"\",INT(E74*G74))","v":0}]
[]
[]
[]
["▲",null,"小　　　計",null,null,null,null,{"$f":"SUM(H43:H76)","v":0}]
["▼"]
[{"$f":"INT(ROW()/38)+1","v":3},"2 ","動力設備配線　　"]
[]
[null,null,"ケーブル","CV3.5-4C",95,"ｍ",null,{"$f":"IF(E82=\"\",\"\",INT(E82*G82))","v":0}]
[]
[null,null,"ケーブル","CVT　　14",20,"ｍ",null,{"$f":"IF(E84=\"\",\"\",INT(E84*G84))","v":0}]
[]
[null,null,"電線","IV　　5.5",20,"ｍ",null,{"$f":"IF(E86=\"\",\"\",INT(E86*G86))","v":0}]
[]
[null,null,"ケーブル","VCTF　　0.75-3C",60,"ｍ",null,{"$f":"IF(E88=\"\",\"\",INT(E88*G88))","v":0}]
[]
[null,null,"ケーブル","VCTF　　1.25-4C",140,"ｍ",null,{"$f":"IF(E90=\"\",\"\",INT(E90*G90))","v":0}]
[]
[null,null,"ケーブル","VCTF2-4C",65,"ｍ",null,{"$f":"IF(E92=\"\",\"\",INT(E92*G92))","v":0}]
[]
[null,null,"ケーブル","MVVS　　0.75-4C",20,"ｍ",null,{"$f":"IF(E94=\"\",\"\",INT(E94*G94))","v":0}]
[]
[null,null,"コンセントボックス","OP20-65A　搬送機・給餌機用",2,"面",null,{"$f":"IF(E96=\"\",\"\",INT(E96*G96))","v":0}]
[]
[null,null,"コンセントボックス","OP20-45A　動噴用",1,"面",null,{"$f":"IF(E98=\"\",\"\",INT(E98*G98))","v":0}]
[]
[null,null,"電線管類",null,1,"式",null,{"$f":"IF(E100=\"\",\"\",INT(E100*G100))","v":0}]
[]
[null,null,"電線管類付属品",null,1,"式",null,{"$f":"IF(E102=\"\",\"\",INT(E102*G102))","v":0}]
[]
[null,null,"配線支持金物類",null,1,"式",null,{"$f":"IF(E104=\"\",\"\",INT(E104*G104))","v":0}]
[]
[null,null,"消耗品・雑材費",null,1,"式",null,{"$f":"IF(E106=\"\",\"\",INT(E106*G106))","v":0}]
[]
[null,null,"労務費",null,1,"式",null,{"$f":"IF(E108=\"\",\"\",INT(E108*G108))","v":0}]
[]
[null,null,"諸経費",null,1,"式",null,{"$f":"IF(E110=\"\",\"\",INT(E110*G110))","v":0}]
[]
[]
[]
[]
[]
["▲",null,"小　　　計",null,null,null,null,{"$f":"SUM(H81:H114)","v":0}]
["▼"]
[{"$f":"INT(ROW()/38)+1","v":4},"3 ","空調設備配線"]
[]
[null,null,"ケーブル","VCTF2-3C",1300,"ｍ",null,{"$f":"IF(E120=\"\",\"\",INT(E120*G120))","v":0}]
[]
[null,null,"ケーブル","VCTF2-4C",2600,"ｍ",null,{"$f":"IF(E122=\"\",\"\",INT(E122*G122))","v":0}]
[]
[null,null,"ケーブル","MVVS　　0.75-2C",150,"ｍ",null,{"$f":"IF(E124=\"\",\"\",INT(E124*G124))","v":0}]
[]
[null,null,"電線","IV　　1.25",130,"ｍ",null,{"$f":"IF(E126=\"\",\"\",INT(E126*G126))","v":0}]
[]
[null,null,"電線","IV　　5.5",90,"ｍ",null,{"$f":"IF(E128=\"\",\"\",INT(E128*G128))","v":0}]
[]
[null,null,"ファン接続用ボックス","VE　　404",57,"個",null,{"$f":"IF(E130=\"\",\"\",INT(E130*G130))","v":0}]
[]
[null,null,"プルボックス","VE　　400ｘ400ｘ300・カブセ防水",1,"個",null,{"$f":"IF(E132=\"\",\"\",INT(E132*G132))","v":0}]
[]
[null,null,"支線ワイヤー","22ｓｑ",200,"ｍ",null,{"$f":"IF(E134=\"\",\"\",INT(E134*G134))","v":0}]
[]
[null,null,"同上付属品類",null,1,"式",null,{"$f":"IF(E136=\"\",\"\",INT(E136*G136))","v":0}]
[]
[null,null,"同上金物類",null,1,"式",null,{"$f":"IF(E138=\"\",\"\",INT(E138*G138))","v":0}]
[]
[null,null,"電線管類",null,1,"式",null,{"$f":"IF(E140=\"\",\"\",INT(E140*G140))","v":0}]
[]
[null,null,"電線管類付属品",null,1,"式",null,{"$f":"IF(E142=\"\",\"\",INT(E142*G142))","v":0}]
[]
[null,null,"配線支持金物類",null,1,"式",null,{"$f":"IF(E144=\"\",\"\",INT(E144*G144))","v":0}]
[]
[null,null,"消耗品・雑材費",null,1,"式",null,{"$f":"IF(E146=\"\",\"\",INT(E146*G146))","v":0}]
[]
[null,null,"労務費",null,1,"式",null,{"$f":"IF(E148=\"\",\"\",INT(E148*G148))","v":0}]
[]
[null,null,"諸経費",null,1,"式",null,{"$f":"IF(E150=\"\",\"\",INT(E150*G150))","v":0}]
[]
[null,null,null,null,null,null,null,{"$f":"IF(E152=\"\",\"\",INT(E152*G152))","v":""}]
[]
["▲",null,"小　　　計",null,null,null,null,{"$f":"SUM(H119:H152)","v":0}]
["▼"]
[{"$f":"INT(ROW()/38)+1","v":5},"4 ","分電盤･制御盤"]
[]
[null,null,"アグリメール",null,1,"台",null,{"$f":"IF(E158=\"\",\"\",INT(E158*G158))","v":0}]
[]
[null,null,"4-1. 電灯・動力分電盤",null,null,null,null,{"$f":"IF(E160=\"\",\"\",INT(E160*G160))","v":""}]
[]
[null,null,"収容ボックス","OR20-88-2",1,"面",null,{"$f":"IF(E162=\"\",\"\",INT(E162*G162))","v":0}]
[]
[null,null,"サーキットブレーカー","3P30A　欠相保護付",1,"個",null,{"$f":"IF(E164=\"\",\"\",INT(E164*G164))","v":0}]
[]
[null,null,"漏電ブレーカー","2P1E20A",2,"個",null,{"$f":"IF(E166=\"\",\"\",INT(E166*G166))","v":0}]
[]
[null,null,"安全ブレーカー","2P6A",1,"個",null,{"$f":"IF(E168=\"\",\"\",INT(E168*G168))","v":0}]
[]
[null,null,"アレスター","LT-2T",2,"個",null,{"$f":"IF(E170=\"\",\"\",INT(E170*G170))","v":0}]
[]
[null,null,"24時間タイマー","停電補償付",1,"個",null,{"$f":"IF(E172=\"\",\"\",INT(E172*G172))","v":0}]
[]
[null,null,"サーキットブレーカー","3P200A",1,"個",null,{"$f":"IF(E174=\"\",\"\",INT(E174*G174))","v":0}]
[]
[null,null,"漏電ブレーカー","3P15A以下",6,"個",null,{"$f":"IF(E176=\"\",\"\",INT(E176*G176))","v":0}]
[]
[null,null,"漏電ブレーカー","3P60A",1,"個",null,{"$f":"IF(E178=\"\",\"\",INT(E178*G178))","v":0}]
[]
[null,null,"コンデンサ","10uF",3,"個",null,{"$f":"IF(E180=\"\",\"\",INT(E180*G180))","v":0}]
[]
[null,null,"コンデンサ","20uF",2,"個",null,{"$f":"IF(E182=\"\",\"\",INT(E182*G182))","v":0}]
[]
[null,null,"コンデンサ","30uF",1,"個",null,{"$f":"IF(E184=\"\",\"\",INT(E184*G184))","v":0}]
[]
[null,null,"コンデンサ","100uF",1,"個",null,{"$f":"IF(E186=\"\",\"\",INT(E186*G186))","v":0}]
[]
[null,null,"端子台","250A　　3P+1E",1,"個",null,{"$f":"IF(E188=\"\",\"\",INT(E188*G188))","v":0}]
[]
[null,null,"電線類",null,1,"式",null,0]
[]
["▲",null,"消耗品・雑材費",null,1,"式",null,0]
["▼"]
[{"$f":"INT(ROW()/38)+1","v":6},null,"組立費",null,1,"式",null,0]
[]
[]
[]
[]
[]
[]
[]
[]
[]
[]
[]
[]
[]
[]
[]
[]
[]
[]
[]
[]
[]
[]
[]
[]
[]
[]
[]
[]
[]
[]
[]
[]
[]
[]
[]
["▲",null,"小　　　計",null,null,null,null,{"$f":"SUM(H157:H228)","v":0}]
["▼"]
[{"$f":"INT(ROW()/38)+1","v":7},null,"4-2.　空調制御盤（排気用）"]
[]
[null,null,"収容ボックス","OR25-1012-2",1,"面",null,{"$f":"IF(E234=\"\",\"\",INT(E234*G234))","v":0}]
[]
[null,null,"インバーター","7.5Kｗ",1,"台",null,{"$f":"IF(E236=\"\",\"\",INT(E236*G236))","v":0}]
[]
[null,null,"温度調節器","DG3000",2,"個",null,{"$f":"IF(E238=\"\",\"\",INT(E238*G238))","v":0}]
[]
[null,null,"漏電警報付きブレーカー","3P75A",1,"個",null,{"$f":"IF(E240=\"\",\"\",INT(E240*G240))","v":0}]
[]
[null,null,"漏電ブレーカー","警報接点付・15A用",1,"個",null,0]
[]
[null,null,"サーキットブレーカー","2P5A",1,"個",null,{"$f":"IF(E244=\"\",\"\",INT(E244*G244))","v":0}]
[]
[null,null,"サーキットブレーカー","3P40A",2,"個",null,{"$f":"IF(E246=\"\",\"\",INT(E246*G246))","v":0}]
[]
[null,null,"サーキットプロテクタ","2P5A",1,"個",null,{"$f":"IF(E248=\"\",\"\",INT(E248*G248))","v":0}]
[]
[null,null,"切替開閉器","3P60A",1,"個",null,{"$f":"IF(E250=\"\",\"\",INT(E250*G250))","v":0}]
[]
[null,null,"間欠タイマ","ソケット含む",2,"個",null,{"$f":"IF(E252=\"\",\"\",INT(E252*G252))","v":0}]
[]
[null,null,"24時間帯タイマー","停電補償付",1,"個",null,{"$f":"IF(E254=\"\",\"\",INT(E254*G254))","v":0}]
[]
[null,null,"マグネットスイッチ","サーマル付・10Aまで",17,"個",null,{"$f":"IF(E256=\"\",\"\",INT(E256*G256))","v":0}]
[]
[null,null,"コンデンサ","20uF",6,"個",null,{"$f":"IF(E258=\"\",\"\",INT(E258*G258))","v":0}]
[]
[null,null,"リレー","MY4N+ソケット",10,"個",null,{"$f":"IF(E260=\"\",\"\",INT(E260*G260))","v":0}]
[]
[null,null,"セレクタスイッチ",null,20,"個",null,{"$f":"IF(E262=\"\",\"\",INT(E262*G262))","v":0}]
[]
[null,null,"パイロットランプ","LED22φ",2,"個",null,{"$f":"IF(E264=\"\",\"\",INT(E264*G264))","v":0}]
[]
[null,null,"ドアユニット","BP11-55DS",1,"セット",null,{"$f":"IF(E266=\"\",\"\",INT(E266*G266))","v":0}]
[]
[null,null,"盤用換気扇セット","温度スイッチ含む",1,"セット",null,{"$f":"IF(E268=\"\",\"\",INT(E268*G268))","v":0}]
["▼"]
[{"$f":"INT(ROW()/38)+1","v":8},null,"電線類",null,1,"式",null,{"$f":"IF(E270=\"\",\"\",INT(E270*G270))","v":0}]
[]
[null,null,"消耗品・雑材費",null,1,"式",null,{"$f":"IF(E272=\"\",\"\",INT(E272*G272))","v":0}]
[]
[null,null,"諸経費",null,1,"式",null,{"$f":"IF(E274=\"\",\"\",INT(E274*G274))","v":0}]
[]
[]
[]
[]
[]
[]
[]
[]
[]
[]
[]
[]
[]
[]
[]
[]
[]
[]
[]
[]
[]
[]
[]
[]
[]
[]
[]
[]
[]
[]
[]
["▲",null,"小　　　計",null,null,null,null,{"$f":"SUM(H233:H304)","v":0}]
["▼"]
[{"$f":"INT(ROW()/38)+1","v":9},null,"4-3.　空調制御盤（扇風機）"]
[]
[null,null,"収容ボックス","OR25-1012-2",1,"面",null,{"$f":"IF(E310=\"\",\"\",INT(E310*G310))","v":0}]
[]
[null,null,"インバーター","7.5Kｗ",1,"台",null,{"$f":"IF(E312=\"\",\"\",INT(E312*G312))","v":0}]
[]
[null,null,"インバーター","15ｋｗ",2,"台",null,{"$f":"IF(E314=\"\",\"\",INT(E314*G314))","v":0}]
[]
[null,null,"温度調節器","DG3000",1,"個",null,{"$f":"IF(E316=\"\",\"\",INT(E316*G316))","v":0}]
[]
[null,null,"漏電ブレーカー","警報接点付・40A用",1,"個",null,{"$f":"IF(E318=\"\",\"\",INT(E318*G318))","v":0}]
[]
[null,null,"漏電ブレーカー","警報接点付・75A用",2,"個",null,{"$f":"IF(E320=\"\",\"\",INT(E320*G320))","v":0}]
[]
[null,null,"サーキットブレーカー","2P5A",1,"個",null,{"$f":"IF(E322=\"\",\"\",INT(E322*G322))","v":0}]
[]
[null,null,"切替開閉器","3P60A",1,"個",null,{"$f":"IF(E324=\"\",\"\",INT(E324*G324))","v":0}]
[]
[null,null,"切替開閉器","3P100A",2,"個",null,{"$f":"IF(E326=\"\",\"\",INT(E326*G326))","v":0}]
[]
[null,null,"リレー","MY4N+ソケット",4,"個",null,{"$f":"IF(E328=\"\",\"\",INT(E328*G328))","v":0}]
[]
[null,null,"セレクタスイッチ",null,4,"個",null,{"$f":"IF(E330=\"\",\"\",INT(E330*G330))","v":0}]
[]
[null,null,"ドアユニット","BP11-33SS",1,"セット",null,{"$f":"IF(E332=\"\",\"\",INT(E332*G332))","v":0}]
[]
[null,null,"盤用換気扇セット","温度スイッチ含む",1,"セット",null,{"$f":"IF(E334=\"\",\"\",INT(E334*G334))","v":0}]
[]
[null,null,"電線類",null,1,"式",null,{"$f":"IF(E336=\"\",\"\",INT(E336*G336))","v":0}]
[]
[null,null,"消耗品・雑材費",null,1,"式",null,{"$f":"IF(E338=\"\",\"\",INT(E338*G338))","v":0}]
[]
[null,null,"諸経費",null,1,"式",null,{"$f":"IF(E340=\"\",\"\",INT(E340*G340))","v":0}]
[]
[]
[]
["▲",null,"小　　　計",null,null,null,null,{"$f":"SUM(H309:H342)","v":0}]
["▼"]
[{"$f":"INT(ROW()/38)+1","v":10},null,"4-4.　扇風機開閉機盤"]
[]
[null,null,"収容ボックス","OR25-1012-2",1,"面",null,{"$f":"IF(E348=\"\",\"\",INT(E348*G348))","v":0}]
[]
[null,null,"モーターブレーカー",null,50,"個",null,{"$f":"IF(E350=\"\",\"\",INT(E350*G350))","v":0}]
[]
[null,null,"切替開閉器","3P60A",2,"個",null,{"$f":"IF(E352=\"\",\"\",INT(E352*G352))","v":0}]
[]
[null,null,"端子台","3P60A",1,"個",null,{"$f":"IF(E354=\"\",\"\",INT(E354*G354))","v":0}]
[]
[null,null,"端子台","3P100A",2,"個",null,{"$f":"IF(E356=\"\",\"\",INT(E356*G356))","v":0}]
[]
[null,null,"電線類",null,1,"式",null,{"$f":"IF(E358=\"\",\"\",INT(E358*G358))","v":0}]
[]
[null,null,"消耗品・雑材費",null,1,"式",null,{"$f":"IF(E360=\"\",\"\",INT(E360*G360))","v":0}]
[]
[null,null,"諸経費",null,1,"式",null,{"$f":"IF(E362=\"\",\"\",INT(E362*G362))","v":0}]
[]
[]
[]
[]
[]
[]
[]
[]
[]
[]
[]
[]
[]
[]
[]
[]
[]
[]
[]
["▲",null,"小　　　計",null,null,null,null,{"$f":"SUM(H347:H380)","v":0}]
["▼"]
[{"$f":"INT(ROW()/38)+1","v":11},null,"4-5.　加圧ポンプ盤"]
[]
[null,null,"プラボックス","OPK18-54A",1,"面",null,{"$f":"IF(E386=\"\",\"\",INT(E386*G386))","v":0}]
[]
[null,null,"サーキットブレーカー","3P10A",1,"個",null,{"$f":"IF(E388=\"\",\"\",INT(E388*G388))","v":0}]
[]
[null,null,"サーキットプロテクタ","2P2A",1,"個",null,{"$f":"IF(E390=\"\",\"\",INT(E390*G390))","v":0}]
[]
[null,null,"リレー","MY2N+ソケット",2,"個",null,{"$f":"IF(E392=\"\",\"\",INT(E392*G392))","v":0}]
[]
[null,null,"フロートレスリレー","61F-G1N",1,"個",null,{"$f":"IF(E394=\"\",\"\",INT(E394*G394))","v":0}]
[]
[null,null,"押釦スイッチ",null,1,"個",null,{"$f":"IF(E396=\"\",\"\",INT(E396*G396))","v":0}]
[]
[null,null,"パイロットランプ","LED22φ",3,"個",null,{"$f":"IF(E398=\"\",\"\",INT(E398*G398))","v":0}]
[]
[null,null,"電極保持器","PS-4S",1,"個",null,{"$f":"IF(E400=\"\",\"\",INT(E400*G400))","v":0}]
[]
[null,null,"電極棒",null,4,"本",null,{"$f":"IF(E402=\"\",\"\",INT(E402*G402))","v":0}]
[]
[null,null,"VEコネクタ","VE　　54",1,"個",null,{"$f":"IF(E404=\"\",\"\",INT(E404*G404))","v":0}]
[]
[null,null,"電線類",null,1,"式",null,{"$f":"IF(E406=\"\",\"\",INT(E406*G406))","v":0}]
[]
[null,null,"消耗品・雑材費",null,1,"式",null,{"$f":"IF(E408=\"\",\"\",INT(E408*G408))","v":0}]
[]
[null,null,"諸経費",null,1,"式",null,{"$f":"IF(E410=\"\",\"\",INT(E410*G410))","v":0}]
[]
[null,null,null,null,null,null,null,{"$f":"IF(E412=\"\",\"\",INT(E412*G412))","v":""}]
[]
[null,null,null,null,null,null,null,{"$f":"IF(E414=\"\",\"\",INT(E414*G414))","v":""}]
[]
[null,null,null,null,null,null,null,{"$f":"IF(E416=\"\",\"\",INT(E416*G416))","v":""}]
[]
[null,null,"　　　　　　小　　計",null,null,null,null,{"$f":"SUM(H385:H416)","v":0}]
[]
["▲"]
["▼"]
[{"$f":"INT(ROW()/38)+1","v":12},"5 ","低圧受電設備及び幹線工事"]
[]
[null,null,"引込開閉器盤","電灯用発電機切替スイッチ付",1,"ｍ",null,{"$f":"IF(E424=\"\",\"\",INT(E424*G424))","v":0}]
[]
[null,null,"コンクリート柱","9ｍ",1,"式",null,{"$f":"IF(E426=\"\",\"\",INT(E426*G426))","v":0}]
[]
[null,null,"装柱金物類","支線材料含む",1,"ｍ",null,{"$f":"IF(E428=\"\",\"\",INT(E428*G428))","v":0}]
[]
[null,null,"FEP電線管類",null,1,"式",null,{"$f":"IF(E430=\"\",\"\",INT(E430*G430))","v":0}]
[]
[null,null,"ケーブル","CVT　　　14",50,"ｍ",null,0]
[]
[null,null,"ケーブル","CVT　　　22",40,"式",null,{"$f":"IF(E434=\"\",\"\",INT(E434*G434))","v":0}]
[]
[null,null,"ケーブル","CVT　　　60",15,"式",null,{"$f":"IF(E436=\"\",\"\",INT(E436*G436))","v":0}]
[]
[null,null,"ケーブル","CVT　　　100",50,null,null,{"$f":"IF(E438=\"\",\"\",INT(E438*G438))","v":0}]
[]
[null,null,"電線","IV　　　14",50,null,null,{"$f":"IF(E440=\"\",\"\",INT(E440*G440))","v":0}]
[]
[null,null,"その他電線類",null,1,"式",null,{"$f":"IF(E442=\"\",\"\",INT(E442*G442))","v":0}]
[]
[null,null,"電線管類",null,1,"式",null,{"$f":"IF(E444=\"\",\"\",INT(E444*G444))","v":0}]
[]
[null,null,"接地材料","D種",1,"式",null,{"$f":"IF(E446=\"\",\"\",INT(E446*G446))","v":0}]
[]
[null,null,"掘削・埋戻し",null,1,"式",null,{"$f":"IF(E448=\"\",\"\",INT(E448*G448))","v":0}]
[]
[null,null,"建柱費",null,1,"式",null,{"$f":"IF(E450=\"\",\"\",INT(E450*G450))","v":0}]
[]
[null,null,"消耗品・雑材費",null,1,"式",null,{"$f":"IF(E452=\"\",\"\",INT(E452*G452))","v":0}]
[]
[null,null,"労務費",null,1,"式",null,{"$f":"IF(E454=\"\",\"\",INT(E454*G454))","v":0}]
[]
[null,null,"発電機","100KVA",1,"式"]
[]
[null,null,"諸経費",null,1,"式",null,{"$f":"IF(E458=\"\",\"\",INT(E458*G458))","v":0}]
[]
[]
[]
[null,null,"小　　　計",null,null,null,null,{"$f":"SUM(H424:H461)","v":0}]
[]
[]
[]
[null,"6 ","仮設電気工事"]
[]
[null,null,"仮設電柱","ELB40A-4回路",1,"式",null,{"$f":"IF(E468=\"\",\"\",INT(E468*G468))","v":0}]
[]
[null,null,"ケーブル","VVF  　2.0-2C",100,"ｍ",null,{"$f":"IF(E470=\"\",\"\",INT(E470*G470))","v":0}]
[]
[null,null,"ケーブル","VVF　　2.0-3C",100,"ｍ",null,{"$f":"IF(E472=\"\",\"\",INT(E472*G472))","v":0}]
[]
[null,null,"電灯分電盤","ELB30A-2回路",2,"面",null,{"$f":"IF(E474=\"\",\"\",INT(E474*G474))","v":0}]
[]
[null,null,"電線管類",null,1,"式",null,{"$f":"IF(E476=\"\",\"\",INT(E476*G476))","v":0}]
[]
[null,null,"消耗品・雑材費",null,1,"式",null,{"$f":"IF(E478=\"\",\"\",INT(E478*G478))","v":0}]
[]
[null,null,"労務費",null,1,"式",null,{"$f":"IF(E480=\"\",\"\",INT(E480*G480))","v":0}]
[]
[null,null,"諸経費","（九電申請費含む）",1,"式",null,{"$f":"IF(E482=\"\",\"\",INT(E482*G482))","v":0}]
[]
[null,null,null,null,null,null,null,{"$f":"IF(E484=\"\",\"\",INT(E484*G484))","v":""}]
[]
[null,null,null,null,null,null,null,{"$f":"IF(E486=\"\",\"\",INT(E486*G486))","v":""}]
[]
[null,null,null,null,null,null,null,{"$f":"IF(E488=\"\",\"\",INT(E488*G488))","v":""}]
[]
[null,null,null,null,null,null,null,{"$f":"IF(E490=\"\",\"\",INT(E490*G490))","v":""}]
[]
[null,null,null,null,null,null,null,{"$f":"IF(E492=\"\",\"\",INT(E492*G492))","v":""}]
[]
[]
[]
[null,null,"小　　　計",null,null,null,null,{"$f":"SUM(H467:H495)","v":0}]

{"sheet":"内訳（給水設備）","index":4,"n_rows":228,"n_cols":9,"rows_kept":228,"cut":false,"hidden":false,"merged":[[0,7,1,7],[0,8,1,10],[0,1,1,1],[0,2,1,2],[0,3,1,3],[0,4,1,4],[0,5,1,5],[0,6,1,6]]}
[null,"記号","名　　　　　　　　称","摘　　　　　　　要","数　量","単位","単　価","金　　額","備　　　　　考"]
[]
["▼"]
[{"$f":"INT(ROW()/38)+1","v":1},null,{"$f":"種目内訳!$C$14","v":"Ｃ. 給水設備工事"}]
[]
[null,null,null,null,null,null,null,{"$f":"IF(E6=\"\",\"\",INT(E6*G6))","v":""}]
[]
[null,null,"1.　給水設備工事",null,1,"式",null,{"$f":"SUM(H190)","v":0}]
[]
[null,null,"2.　市上水道給水設備工事",null,1,"式",null,{"$f":"SUM(H228)","v":0}]
[]
[null,null,"3.　重機運搬使用費",null,1,"式"]
[]
[null,null,"4.　給水加入金　差額","φ20からφ25へ",1,"式"]
[]
[null,null,"5.　給水竣工検査手数料","水道課へ支払",1,"式"]
[]
[]
[]
[]
[]
[]
[]
[]
[]
[]
[]
[]
[]
[]
[]
[]
[]
[]
[]
[]
[]
[null,null,"小　　　計",null,null,null,null,{"$f":"SUM(H8:H36)","v":0}]
[]
["▲"]
["▼"]
[{"$f":"INT(ROW()/38)+1","v":2},"1 ","給水設備工事"]
[]
[null,null,"ポリエチレン二層管","φ50",300,"ｍ",null,{"$f":"IF(E44=\"\",\"\",INT(E44*G44))","v":0}]
[]
[null,null,"ポリエチレン二層管","φ30",11,"ｍ",null,{"$f":"IF(E46=\"\",\"\",INT(E46*G46))","v":0}]
[]
[null,null,"ポリエチレン二層管","φ25",15,"ｍ",null,{"$f":"IF(E48=\"\",\"\",INT(E48*G48))","v":0}]
[]
[null,null,"ポリエチレン二層管","φ13",14,"ｍ",null,{"$f":"IF(E50=\"\",\"\",INT(E50*G50))","v":0}]
[]
[null,null,"SPソケット","φ50",15,"個",null,{"$f":"IF(E52=\"\",\"\",INT(E52*G52))","v":0}]
[]
[null,null,"SPエルボ","φ50",1,"個",null,{"$f":"IF(E54=\"\",\"\",INT(E54*G54))","v":0}]
[]
[null,null,"SP直オス","φ50",2,"個",null,{"$f":"IF(E56=\"\",\"\",INT(E56*G56))","v":0}]
[]
[null,null,"SP直オス","φ30",4,"個",null,{"$f":"IF(E58=\"\",\"\",INT(E58*G58))","v":0}]
[]
[null,null,"SP直オス","φ25",2,"個",null,{"$f":"IF(E60=\"\",\"\",INT(E60*G60))","v":0}]
[]
[null,null,"SP直オス","φ13",2,"個",null,{"$f":"IF(E62=\"\",\"\",INT(E62*G62))","v":0}]
[]
[null,null,"SPチーズ","φ30",1,"個",null,{"$f":"IF(E64=\"\",\"\",INT(E64*G64))","v":0}]
[]
[null,null,"ステンレス鋼管","32A",2,"ｍ",null,{"$f":"IF(E66=\"\",\"\",INT(E66*G66))","v":0}]
[]
[null,null,"ステンレス鋼管","25A",8.8000000000000007,"ｍ",null,{"$f":"IF(E68=\"\",\"\",INT(E68*G68))","v":0}]
[]
[null,null,"ステンレスチーズ","32",4,"個",null,{"$f":"IF(E70=\"\",\"\",INT(E70*G70))","v":0}]
[]
[null,null,"ステンレスチーズ","25",1,"個",null,{"$f":"IF(E72=\"\",\"\",INT(E72*G72))","v":0}]
[]
[null,null,"ステンレスブッシング","30*25",4,"個",null,{"$f":"IF(E74=\"\",\"\",INT(E74*G74))","v":0}]
[]
[null,null,"ステンレスブッシング","25*13",2,"個",null,0]
[]
["▲",null,"ステンレスエルボ","50",1,"個",null,{"$f":"IF(E78=\"\",\"\",INT(E78*G78))","v":0}]
[]
[null,null,"ステンレスエルボ","32",3,"個",null,{"$f":"IF(E80=\"\",\"\",INT(E80*G80))","v":0}]
[]
[null,null,"ステンレスエルボ","25",6,"個",null,0]
[]
[null,null,"ステンレス六角ニップル","25",4,"個",null,0]
[]
[null,null,"ステンレス六角ニップル","30",1,"個",null,0]
[]
[null,null,"ステンレス六角ニップル","50*25",1,"個",null,0]
[]
[null,null,"ステンレスソケット","32*25",1,"個",null,0]
[]
[null,null,"VPパイプ","φ75",37,"ｍ",null,0]
[]
[null,null,"VPパイプ","φ50",4,"ｍ",null,0]
[]
[null,null,"VPパイプ","φ40",2,"ｍ",null,0]
[]
[null,null,"VPパイプ","φ25",2.5,"ｍ",null,0]
[]
[null,null,"HI　ソケット","φ75",10,"個",null,0]
[]
[null,null,"HI　エルボ","φ75",1,"個",null,0]
[]
[null,null,"HI　エルボ","φ50",5,"個",null,0]
[]
[null,null,"HI　エルボ","φ40",1,"個",null,0]
[]
[null,null,"HI　エルボ","φ25",4,"個",null,0]
[]
[null,null,"HI　バルブソケット","φ50",1,"個",null,0]
[]
[null,null,"HI　インサート入りバルブソケット","φ40",1,"個",null,0]
[]
[null,null,"HI　インサート入りバルブソケット","φ25",7,"個",null,0]
[]
[null,null,"HI　イケイソケット","φ40*25",1,"個",null,0]
[]
[null,null,"保温チューブ","30",2,"ｍ",null,0]
[]
[null,null,"ボールバルブ","50",1,"個",null,{"$f":"IF(E120=\"\",\"\",INT(E120*G120))","v":0}]
[]
[null,null,"ボールバルブ","40",1,"個",null,0]
[]
[null,null,"ボールバルブ","30",3,"個",null,0]
[]
[null,null,"ボールバルブ","25",6,"個",null,0]
[]
[null,null,"複式ボールタップ","貯水槽用　　φ25",1,"個",null,0]
[]
[null,null,"複式ボールタップ　　ステン","薬液用　φ25",1,"個",null,0]
[]
[null,null,"通気弁","φ50",1,"個",null,0]
[]
[null,null,"防虫目皿","φ50",1,"個",null,0]
[]
[null,null,"ステンレス製逆止弁","10K　　φ25",1,"個",null,0]
[]
[null,null,"水栓柱","1200",1,"本",null,0]
[]
[null,null,"万能ホーム水栓",null,2,"個",null,0]
[]
[null,null,"ステンレス管ネジ加工費",null,1,"式",null,0]
[]
[null,null,"配管器具取付工",null,1,"式",null,0]
[]
[null,null,"諸経費",null,1,"式",null,0]
[]
[null,null,"加圧ポンプ　ジェットセット","NR-250S",1,"基",null,0]
[]
[null,null,"ポンプ据付及び試運転調整費",null,1,"式",null,0]
[]
[null,null,"貯水槽運搬及び据付工事","クレーン及びオペレーター含む",1,"式",null,0]
[]
[null,null,"FRP製薬液用、洗浄用タンク","1000L　　液位計",2,"基",null,0]
[]
[null,null,"タンク据付工事",null,2,"式",null,0]
[]
[null,null,"コンクリート製集水桝","600*600",1,"個",null,{"$f":"IF(E158=\"\",\"\",INT(E158*G158))","v":0}]
[]
[null,null,"底部コンクリート",null,1,"式",null,0]
[]
[null,null,"集水桝　グレーチング","600*600",1,"個",null,0]
[]
[null,null,"集水桝据付工事",null,1,"箇所",null,0]
[]
[null,null,"貯水槽コンクリート下地工事","生コン材、鉄筋含む",1,"式",null,0]
[]
[null,null,"貯水槽下地工事砕石敷き均し","砕石材含む",1,"式",null,0]
[]
[null,null,"薬液用、洗浄用タンクコンクリート下地工事","生コン材、鉄筋含む",1,"式",null,0]
[]
[null,null,"薬液用、洗浄用タンク下地工事砕石","砕石材含む",1,"式",null,0]
[]
[]
[]
[]
[]
[]
[]
[]
[]
[]
[]
[]
[]
[]
[]
[]
[]
[null,null,"小　　　計",null,null,null,null,{"$f":"SUM(H43:H188)","v":0}]
[]
[]
[]
[null,"2 ","市上水道給水設備工事"]
[]
[null,null,"ポリエチレン2層管","φ30",140,"ⅿ",null,{"$f":"IF(E196=\"\",\"\",INT(E196*G196))","v":0}]
[]
[null,null,"SPソケット","φ30",2,"個",null,0]
[]
[null,null,"SP直オス","φ30",1,"個",null,0]
[]
[null,null,"SPエルボ","φ30",1,"個",null,0]
[]
[null,null,"HI-VP","φ25",4,"ⅿ",null,0]
[]
[null,null,"HI  チーズ","φ25",1,"個",null,0]
[]
[null,null,"HI　　エルボ","φ25",1,"個",null,0]
[]
[null,null,"HI　ソケット","φ25",2,"個",null,0]
[]
[null,null,"MCユニオン","φ25",1,"個",null,0]
[]
[null,null,"メーターBOX   FRP製","φ25",1,"個",null,0]
[]
[null,null,"逆流止付ポール伸縮止水栓","φ25",1,"個",null,0]
[]
[null,null,"エラスジョイント","EM25",2,"個",null,0]
[]
[null,null,"逆止弁","30",1,"個",null,0]
[]
[null,null,"配管労務費",null,1,"式",null,0]
[]
[null,null,"諸経費",null,1,"式",null,0]
[]
[null,null,"書類作成、写真管理、立会検査費","上水道",1,"式",null,0]
[]
[null,null,"小　　　計",null,null,null,null,{"$f":"SUM(H195:H226)","v":0}]

{"sheet":"内訳（物体付帯）","index":5,"n_rows":418,"n_cols":9,"rows_kept":418,"cut":false,"hidden":false,"merged":[[0,7,1,7],[0,8,1,10],[0,1,1,1],[0,2,1,2],[0,3,1,3],[0,4,1,4],[0,5,1,5],[0,6,1,6]]}
[null,"記号","名　　　　　　　　称","摘　　　　　　　要","数　量","単位","単　価","金　　額","備　　　　　考"]
[]
["▼"]
[{"$f":"INT(ROW()/38)+1","v":1},null,{"$f":"種目内訳!$C$16","v":"Ｄ. 物体付帯工事"}]
[]
[]
[]
[null,null,"1. 内部設備工事",null,1,"式",null,{"$f":"H76","v":0}]
[]
[null,null,"2. 空調設備工事",null,1,"式",null,{"$f":"SUM(H190)","v":0}]
[]
[null,null,"3. 地質検査工事",null,1,"式",null,{"$f":"H380","v":0}]
[]
[null,null,"4. 貯水用　5tタンク","耐震2/3Ｇ　資材のみ",1,"式",null,{"$f":"H418","v":0}]
[]
[null,null,"5. 諸経費",null,1,"式"]
[]
[]
[]
[]
[]
[]
[]
[]
[]
[]
[]
[]
[]
[]
[]
[]
[]
[]
[]
[]
[]
[null,null,"　　　　計",null,null,null,null,{"$f":"SUM(H7:H36)","v":0}]
[]
["▲"]
["▼"]
[{"$f":"INT(ROW()/38)+1","v":2},"1 ","内部設備工事"]
[]
[null,null,null,null,null,null,null,{"$f":"IF(E44=\"\",\"\",INT(E44*G44))","v":""}]
[]
[null,null,"1-1.　飼料搬送機取付工事",null,1,"式",null,{"$f":"H94","v":0}]
[]
[null,null,"1-2.　自動給餌機取付工事",null,1,"式",null,{"$f":"H114","v":0}]
[]
[null,null,"1-3.　平飼用自動給水器取付工事",null,1,"式",null,{"$f":"H134","v":0}]
[]
[null,null,"1-4.　ガスブルーダー取付工事",null,1,"式",null,{"$f":"H152","v":0}]
[]
[]
[]
[]
[]
[]
[]
[]
[]
[]
[]
[]
[]
[]
[]
[]
[]
[]
[]
[]
[]
[]
[]
[null,null,"　　　　計",null,null,null,null,{"$f":"SUM(H45:H75)","v":0}]
[]
["▲"]
["▼"]
[{"$f":"INT(ROW()/38)+1","v":3},null,{"$f":"$C$46","v":"1-1.　飼料搬送機取付工事"},"間口14mX80m"]
[]
[null,null,"飼料搬送装置　Ｆ-50型","全長13ｍ以内、タンク2基連結型",1,"台",null,{"$f":"IF(E82=\"\",\"\",INT(E82*G82))","v":0}]
[]
[null,null,null,"モーター3相200Ｖ　　0.2ｋw",null,null,null,{"$f":"IF(E84=\"\",\"\",INT(E84*G84))","v":""}]
[]
[null,null,null,"全長18ｍ以内、タンク2基連結型",1,"台",null,{"$f":"IF(E86=\"\",\"\",INT(E86*G86))","v":0}]
[]
[null,null,null,"モーター3相200Ｖ　　0.2ｋw",null,null,null,{"$f":"IF(E88=\"\",\"\",INT(E88*G88))","v":""}]
[]
[null,null,null,"全長22ｍ以内、タンク2基連結型",1,"台",null,{"$f":"IF(E90=\"\",\"\",INT(E90*G90))","v":0}]
[]
[null,null,null,"モーター3相200Ｖ　　0.2ｋw",null,null,null,{"$f":"IF(E92=\"\",\"\",INT(E92*G92))","v":""}]
[]
[null,null,"　　　小　計",null,null,null,null,{"$f":"SUM(H81:H92)","v":0}]
[]
[]
[]
[]
[]
[null,null,{"$f":"$C$48","v":"1-2.　自動給餌機取付工事"},"全長78m、750mmピッチ"]
[]
[null,null,"パンフィーダーローレベル型","モーター3相200Ｖ　　0.4ｋw",3,"台",null,{"$f":"IF(E102=\"\",\"\",INT(E102*G102))","v":0}]
[]
[null,null,null,"ＰＰ6型給餌皿　102個　リミット皿1個付",null,null,null,{"$f":"IF(E104=\"\",\"\",INT(E104*G104))","v":""}]
[]
[null,null,"　　電動巻上方式","モーター3相200Ｖ　　0.4ｋw",null,null,null,{"$f":"IF(E106=\"\",\"\",INT(E106*G106))","v":""}]
[]
[]
[]
[null,null,null,null,null,null,null,{"$f":"IF(E110=\"\",\"\",INT(E110*G110))","v":""}]
[]
[]
[]
[null,null,"　　　小　計",null,null,null,null,{"$f":"SUM(H101:H112)","v":0}]
[]
["▲"]
["▼"]
[{"$f":"INT(ROW()/38)+1","v":4},null,{"$f":"$C$50","v":"1-3.　平飼用自動給水器取付工事"}]
[]
[null,null,null,"電動巻上方式　2列x6ライン",1,"棟",null,{"$f":"IF(E120=\"\",\"\",INT(E120*G120))","v":0}]
[]
[null,null,null,"全長78mx6列ＣＬ型250ｍｍピッチ妻側",null,null,null,{"$f":"IF(E122=\"\",\"\",INT(E122*G122))","v":""}]
[]
[null,null,"　　電動巻上装置　","減圧弁　電動モーター3台　0.4kw",null,null,null,{"$f":"IF(E124=\"\",\"\",INT(E124*G124))","v":""}]
[]
[null,null,null,null,null,null,null,{"$f":"IF(E126=\"\",\"\",INT(E126*G126))","v":""}]
[]
[null,null,"内部給水配管工事（2次側）","塩ビ材、バルブ等（取付費含む）",1,"式",null,{"$f":"IF(E128=\"\",\"\",INT(E128*G128))","v":0}]
[]
[null,null,null,"減圧弁、フィルター含む",null,null,null,{"$f":"IF(E130=\"\",\"\",INT(E130*G130))","v":""}]
[]
[null,null,null,null,null,null,null,{"$f":"IF(E132=\"\",\"\",INT(E132*G132))","v":""}]
[]
[null,null,"　　　小　計",null,null,null,null,{"$f":"SUM(H119:H133)","v":0}]
[]
[]
[]
[null,null,{"$f":"$C$52","v":"1-4.　ガスブルーダー取付工事"}]
[]
[null,null,"　　ガスブルーダー　","20台分",1,"式",null,{"$f":"IF(E140=\"\",\"\",INT(E140*G140))","v":0}]
[]
[null,null,null,null,null,null,null,""]
[]
[null,null,"　　電動巻上方式","ワイヤー吊り巻取り",1,"式",null,0]
[]
[null,null,null,null,null,null,null,{"$f":"IF(E146=\"\",\"\",INT(E146*G146))","v":""}]
[]
[null,null,"　　ブルーダー組立・取付費",null,20,"台",null,{"$f":"IF(E148=\"\",\"\",INT(E148*G148))","v":0}]
[]
[null,null,null,null,null,null,null,{"$f":"IF(E150=\"\",\"\",INT(E150*G150))","v":""}]
[]
[null,null,"　　　小　計",null,null,null,null,{"$f":"SUM(H139:H150)","v":0}]
[]
["▲"]
["▼"]
[{"$f":"INT(ROW()/38)+1","v":5},"2 ","空調設備工事"]
[]
[]
[]
[null,null,"2-1.　換気扇取付工事","大型ファン・その他ファン",1,"棟",null,{"$f":"SUM(H230)","v":0}]
[]
[null,null,"2-2.　細霧・スプリンクラー配管工事",null,1,"式",null,{"$f":"SUM(H266)","v":0}]
[null,null,null,"内部カーテン・外カーテン（上下）"]
[null,null,"2-3.　カーテン取付工事","チックガードカーテン",1,"棟",null,{"$f":"SUM(H304)","v":0}]
[]
[null,null,"2-4.　前妻壁羽根戸取付工事","羽根戸及び取付費",1,"棟",null,{"$f":"SUM(H342)","v":0}]
[]
[null,null,null,null,null,null,null,{"$f":"IF(E168=\"\",\"\",INT(E168*G168))","v":""}]
[]
[null,null,null,null,null,null,null,{"$f":"IF(E170=\"\",\"\",INT(E170*G170))","v":""}]
[]
[null,null,null,null,null,null,null,{"$f":"IF(E172=\"\",\"\",INT(E172*G172))","v":""}]
[]
[]
[]
[null,null,null,null,null,null,null,{"$f":"IF(E176=\"\",\"\",INT(E176*G176))","v":""}]
[]
[null,null,null,null,null,null,null,{"$f":"IF(E178=\"\",\"\",INT(E178*G178))","v":""}]
[]
[null,null,null,null,null,null,null,{"$f":"IF(E180=\"\",\"\",INT(E180*G180))","v":""}]
[]
[]
[]
[]
[]
[]
[]
[]
[]
[null,null,"　　　小　計",null,null,null,null,{"$f":"SUM(H159:H189)","v":0}]
[]
["▲"]
["▼"]
[{"$f":"INT(ROW()/38)+1","v":6},null,{"$f":"$C$160","v":"2-1.　換気扇取付工事"}]
[]
[null,null,"大型ＫＳファン　シャッター付","3相-200Ｖ　0.75ｋｗ",9,"台",null,{"$f":"IF(E196=\"\",\"\",INT(E196*G196))","v":0}]
[]
[null,null,"前後妻用　1ｍ　換気扇","3相-200Ｖ　ガード付",6,"台",null,{"$f":"IF(E198=\"\",\"\",INT(E198*G198))","v":0}]
[]
[null,null,"1mファン用　風圧シャッター",null,6,"台",null,{"$f":"IF(E200=\"\",\"\",INT(E200*G200))","v":0}]
[]
[null,null,"前妻用　50㎝　換気扇","3相-200Ｖ　ガード付",1,"台",null,{"$f":"IF(E202=\"\",\"\",INT(E202*G202))","v":0}]
[]
[null,null,"50㎝ファン用　風圧シャッター",null,1,"台",null,{"$f":"IF(E204=\"\",\"\",INT(E204*G204))","v":0}]
[]
[null,null,"吊り下げ用　1mファン　換気扇","3相-200Ｖ　ガード付",30,"台",null,{"$f":"IF(E206=\"\",\"\",INT(E206*G206))","v":0}]
[]
[null,null,"吊り下げ用　架台",null,30,"台",null,{"$f":"IF(E208=\"\",\"\",INT(E208*G208))","v":0}]
[]
[null,null,"スライド用　1mファン　換気扇","3相-200Ｖ　ガード付",20,"台",null,{"$f":"IF(E210=\"\",\"\",INT(E210*G210))","v":0}]
[]
[null,null,"スライド用　架台",null,20,"台",null,{"$f":"IF(E212=\"\",\"\",INT(E212*G212))","v":0}]
[]
[null,null,"上記取付費","ボルトナット含む"]
[]
[null,null,null,null,null,null,null,{"$f":"IF(E216=\"\",\"\",INT(E216*G216))","v":""}]
[]
[]
[]
[]
[]
[null,null,"※大型ファン・前後妻用ファンはファン及び取付のみとなります。"]
[]
[null,null,"※下地・役物・シーリングその他は含みません。"]
[]
[]
[]
[]
[]
["▲",null,"　　　小　計",null,null,null,null,{"$f":"SUM(H195:H228)","v":0}]
["▼"]
[{"$f":"INT(ROW()/38)+1","v":7},null,{"$f":"$C$162","v":"2-2.　細霧・スプリンクラー配管工事"}]
[]
[]
[]
[null,null,"80m鶏舎　　細霧システム工事","（固定式）",1,"棟",null,{"$f":"IF(E236=\"\",\"\",INT(E236*G236))","v":0}]
[]
[null,null,null,"ノズル80-10Ｎ　　330個"]
[]
[null,null,null,"塩ビ材（ＶＰ20・ＶＰ13）"]
[]
[null,null,null,"バルブ等（取付費含む）"]
[]
[null,null,"ポンプユニット","1台で1棟を差動",1,"セット",null,{"$f":"IF(E244=\"\",\"\",INT(E244*G244))","v":0}]
[]
[null,null,null,"ベースレスポンプ　25-ＢＦＭ2.2ｋｗ"]
[]
[null,null,null,"ディスクフィルター付"]
[]
[null,null,null,"100リットルタンク　蓋付"]
[]
[null,null,null,"架台ドブメッキ仕上"]
[]
[null,null,"スプリンクラー","母屋乗せ　　3列",1,"棟",null,{"$f":"IF(E254=\"\",\"\",INT(E254*G254))","v":0}]
[]
[null,null,null,"ＳＨ-603-Ｓ-2.6-20橙20Aソケット付",null,null,null,{"$f":"IF(E256=\"\",\"\",INT(E256*G256))","v":""}]
[]
[null,null,null,"ＳＨ-603-Ｓ-3.6-20橙20Aソケット付",null,null,null,{"$f":"IF(E258=\"\",\"\",INT(E258*G258))","v":""}]
[]
[null,null,null,"塩ビ材（ＶＰ20）",null,null,null,{"$f":"IF(E260=\"\",\"\",INT(E260*G260))","v":""}]
[]
[null,null,null,"バルブ等（取付費含む）",null,null,null,{"$f":"IF(E262=\"\",\"\",INT(E262*G262))","v":""}]
[]
[null,null,null,null,null,null,null,{"$f":"IF(E264=\"\",\"\",INT(E264*G264))","v":""}]
[]
[null,null,"　　　小　計",null,null,null,null,{"$f":"SUM(H233:H265)","v":0}]
[]
["▲"]
["▼"]
[{"$f":"INT(ROW()/38)+1","v":8},null,{"$f":"$C$164","v":"2-3.　カーテン取付工事"}]
[]
[null,null,"上段、アコーディオンカーテン","ブラック＆シルバー生地",2,"セット",null,{"$f":"IF(E272=\"\",\"\",INT(E272*G272))","v":0}]
[]
[null,null,null,"0.95mx80m",null,null,null,{"$f":"IF(E274=\"\",\"\",INT(E274*G274))","v":""}]
[]
[null,null,null,"手動巻上ウインチ（強力型）方式"]
[]
[null,null,"下段、巻上式カーテン","ブラック＆シルバー生地",2,"セット",null,{"$f":"IF(E278=\"\",\"\",INT(E278*G278))","v":0}]
[]
[null,null,null,"1.15mx80m",null,null,null,{"$f":"IF(E280=\"\",\"\",INT(E280*G280))","v":""}]
[]
[null,null,null,"手動巻上ウインチ（強力型）方式"]
[]
[null,null,"鶏舎内部　チックガード用カーテン","手動巻上巾450mmx80m",2,"セット",null,{"$f":"IF(E284=\"\",\"\",INT(E284*G284))","v":0}]
[]
[null,null,"暖房用仕切りカーテン","内部カーテンＨ4.5x80m（片ラミ",1,"セット",null,{"$f":"IF(E286=\"\",\"\",INT(E286*G286))","v":0}]
[]
[null,null,null,"電動巻上式",null,null,null,{"$f":"IF(E288=\"\",\"\",INT(E288*G288))","v":""}]
[]
[null,null,null,null,null,null,null,{"$f":"IF(E290=\"\",\"\",INT(E290*G290))","v":""}]
[]
[null,null,null,null,null,null,null,{"$f":"IF(E292=\"\",\"\",INT(E292*G292))","v":""}]
[]
[null,null,null,null,null,null,null,{"$f":"IF(E294=\"\",\"\",INT(E294*G294))","v":""}]
[]
[]
[]
[]
[]
[]
[]
[null,null,null,null,null,null,null,{"$f":"IF(E302=\"\",\"\",INT(E302*G302))","v":""}]
[]
[null,null,"　　　小　計",null,null,null,null,{"$f":"SUM(H271:H302)","v":0}]
[]
["▲"]
["▼"]
[{"$f":"INT(ROW()/38)+1","v":9},null,{"$f":"$C$166","v":"2-4.　前妻壁羽根戸取付工事"}]
[]
[null,null,null,"914x1960　その他取付資材",8,"枚",null,{"$f":"IF(E310=\"\",\"\",INT(E310*G310))","v":0}]
[]
[null,null,null,"取付費含む"]
[]
[]
[]
[]
[]
[]
[]
[]
[]
[]
[]
[]
[]
[]
[]
[]
[]
[]
[]
[]
[]
[]
[]
[]
[]
[]
[]
[null,null,null,null,null,null,null,{"$f":"IF(E340=\"\",\"\",INT(E340*G340))","v":""}]
[]
[null,null,"　　　小　計",null,null,null,null,{"$f":"SUM(H310:H341)","v":0}]
[]
["▲"]
[]
[null,"3 ","地質検査工事"]
[]
[]
[]
[null,null,"地質検査",null,1,"式"]
[]
[]
[]
[]
[]
[]
[]
[]
[]
[]
[]
[]
[]
[]
[]
[]
[]
[]
[]
[]
[]
[]
[]
[]
[]
[]
[]
[]
[]
[null,null,"　　　小　計",null,null,null,null,{"$f":"SUM(H348:H379)","v":0}]
[]
[]
[]
[null,"4 ","貯水用　5tタンク","耐震2/3Ｇ　資材のみ"]
[]
[]
[]
[null,null,"1.　5ｔタンク",null,1,"式"]
[]
[]
[]
[]
[]
[]
[]
[]
[]
[]
[]
[]
[]
[]
[]
[]
[]
[]
[]
[]
[]
[]
[]
[]
[]
[]
[]
[]
[]
[null,null,"　　　小　計",null,null,null,null,{"$f":"SUM(H386:H417)","v":0}]